BEGIN:VCALENDAR
VERSION:2.0
PRODID:-//eventon.com NONSGML v1.0//EN
CALSCALE:GREGORIAN
METHOD:PUBLISH
BEGIN:VEVENT
UID:69e5ed447155c
DTSTAMP:20260420T090924Z
DTSTART:20230730
DTEND:20230731
LOCATION:CrazyHorse San Francisco 980 Market Street\,  San Francisco\,  CA 94102
SUMMARY:DAILY HAPPY HOUR
DESCRIPTION:$15 ENTRY 6PM-7PM DAILY HAPPY HOUR &nbsp;\nhttps://crazyhorse-s
 f.com/events/daily-happy-hour/var/ri-89.l-L1
URL:https://crazyhorse-sf.com/events/daily-happy-hour/var/ri-89.l-L1
END:VEVENT
END:VCALENDAR