BEGIN:VCALENDAR
VERSION:2.0
PRODID:-//eventon.com NONSGML v1.0//EN
CALSCALE:GREGORIAN
METHOD:PUBLISH
BEGIN:VEVENT
UID:69e5ff9878465
DTSTAMP:20260420T102736Z
DTSTART:20211114
DTEND:20211115
LOCATION:CrazyHorse San Francisco 980 Market Street\,  San Francisco\,  CA 94102
SUMMARY:DAILY HAPPY HOUR
DESCRIPTION:$15 ENTRY 6PM-7PM DAILY HAPPY HOUR &nbsp;\nhttps://crazyhorse-s
 f.com/events/daily-happy-hour/
URL:https://crazyhorse-sf.com/events/daily-happy-hour/
END:VEVENT
END:VCALENDAR