BEGIN:VCALENDAR
VERSION:2.0
PRODID:-//eventon.com NONSGML v1.0//EN
CALSCALE:GREGORIAN
METHOD:PUBLISH
BEGIN:VEVENT
UID:69e7af28d3840
DTSTAMP:20260421T170856Z
DTSTART:19700101
DTEND:19700102
LOCATION:
SUMMARY:FOLLOW US
DESCRIPTION:FOLLOW CRAZY HORSE SOCIALS Stay close to the action. Follow Cra
 zy Horse on Instagram and X for first looks at upcoming events\,  exclusive
  offers\,  behind-the-scenes content\,  and nights you won&#8217;t want to 
 miss. Scan the code\,  tap follow\,  and never miss a moment.  RESERVATION
 S 415-771-6259\nhttps://crazyhorse-sf.com/events/follow-us/
URL:https://crazyhorse-sf.com/events/follow-us/
END:VEVENT
END:VCALENDAR