BEGIN:VCALENDAR
VERSION:2.0
PRODID:-//eventon.com NONSGML v1.0//EN
CALSCALE:GREGORIAN
METHOD:PUBLISH
BEGIN:VEVENT
UID:69e737e15e662
DTSTAMP:20260421T084001Z
DTSTART:19700101
DTEND:19700102
LOCATION:
SUMMARY:UBER
DESCRIPTION:GETTING HERE JUST GOT EASIER Skip the parking\,  skip the hassl
 e. $15 off your Uber to Crazy Horse — scan the QR code\,  apply the credi
 t\,  and pull up in style. Your night starts the moment you close the door.
  REDEEM VOUCHER  RESERVATIONS 415-771-6259\nhttps://crazyhorse-sf.com/even
 ts/uber/var/ri-1.l-L1
URL:https://crazyhorse-sf.com/events/uber/var/ri-1.l-L1
END:VEVENT
END:VCALENDAR