BEGIN:VCALENDAR
VERSION:2.0
PRODID:-//eventon.com NONSGML v1.0//EN
CALSCALE:GREGORIAN
METHOD:PUBLISH
BEGIN:VEVENT
UID:69eb3e8fa322d
DTSTAMP:20260424T095735Z
DTSTART:20240404T070000Z
DTEND:20280527T065900Z
LOCATION:CrazyHorse San Francisco 980 Market Street\,  San Francisco\,  CA 94102
SUMMARY:Game Day Special
DESCRIPTION:FREE admission with your game day ticket! &nbsp;\nhttps://crazy
 horse-sf.com/events/game-day-special/var/ri-126.l-L1
URL:https://crazyhorse-sf.com/events/game-day-special/var/ri-126.l-L1
END:VEVENT
END:VCALENDAR