BEGIN:VCALENDAR
VERSION:2.0
PRODID:-//eventon.com NONSGML v1.0//EN
CALSCALE:GREGORIAN
METHOD:PUBLISH
BEGIN:VEVENT
UID:69e612986222e
DTSTAMP:20260420T114840Z
DTSTART:20240215T080000Z
DTEND:20280408T065900Z
LOCATION:CrazyHorse San Francisco 980 Market Street\,  San Francisco\,  CA 94102
SUMMARY:Game Day Special
DESCRIPTION:FREE admission with your game day ticket! &nbsp;\nhttps://crazy
 horse-sf.com/events/game-day-special/var/ri-119.l-L1
URL:https://crazyhorse-sf.com/events/game-day-special/var/ri-119.l-L1
END:VEVENT
END:VCALENDAR