BEGIN:VCALENDAR
VERSION:2.0
PRODID:-//eventon.com NONSGML v1.0//EN
CALSCALE:GREGORIAN
METHOD:PUBLISH
BEGIN:VEVENT
UID:69e60032747cd
DTSTAMP:20260420T103010Z
DTSTART:20240208T080000Z
DTEND:20280401T065900Z
LOCATION:CrazyHorse San Francisco 980 Market Street\,  San Francisco\,  CA 94102
SUMMARY:Game Day Special
DESCRIPTION:FREE admission with your game day ticket! &nbsp;\nhttps://crazy
 horse-sf.com/events/game-day-special/var/ri-118.l-L1
URL:https://crazyhorse-sf.com/events/game-day-special/var/ri-118.l-L1
END:VEVENT
END:VCALENDAR